BEGIN:VCALENDAR
VERSION:2.0
PRODID:-//Air Conditioning and Electrical Solutions - ECPv4.5.2.1//NONSGML v1.0//EN
CALSCALE:GREGORIAN
METHOD:PUBLISH
X-WR-CALNAME:Air Conditioning and Electrical Solutions
X-ORIGINAL-URL:http://www.coolwind.com.au
X-WR-CALDESC:Events for Air Conditioning and Electrical Solutions
BEGIN:VEVENT
DTSTART;VALUE=DATE:20190401
DTEND;VALUE=DATE:20190731
DTSTAMP:20200301T090936
CREATED:20170114T055946Z
LAST-MODIFIED:20190322T232505Z
UID:2007-1554076800-1564617599@www.coolwind.com.au
SUMMARY:$100-$400 Bonus eftpos Gift Card Redemption offer 2019
DESCRIPTION:Mitsubishi Electric is pleased to announce the launch 2019 Winter Gift Card Redemption Offer. This offer entitles our consumers who purchase any selected split or ducted unit the opportunity to redeem a bonus EFTPOS Gift card.\n\nThis offer entitles our consumers who purchase any selected split or ducted unit the opportunity to redeem a bonus eftpos gift card.\n\nMitsubishi Electric air conditioners are world-class systems with industry leading technology.  What does that mean for you and your home?  Sleek\, attractive air conditioning units with quieter operation and reliability.\n\n \tPromotion start: 01/04/2019\n \tPromotion end: 31/07/2019\n \tClaims must be submitted by 31/08/2019\n\nEligible models\n\n\n\nAir Conditioner Model\nDescription\nBonus Gift Card Value\n\n\nMSZ-LN25KIT\n2.5 kW deluxe wall mounted split system\n$100\n\n\nMSZ-LN35KIT\n3.5 kW deluxe wall mounted split system\n$100\n\n\nMSZ-LN50KIT\n5.0 kW deluxe wall mounted system\n$100\n\n\nMSZ-FH25KIT\n2.5 kW deluxe wall mounted split system\n$100\n\n\nMSZ-FH35KIT\n3.5 kW deluxe wall mounted split system\n$100\n\n\nMSZ-FH50KIT\n5.0 kW deluxe wall mounted system\n$100\n\n\nMSZ-EF25VE2B/W/SKIT\n2.5 kW flat panel wall mounted system\n$100\n\n\nMSZ-EF35VE2B/W/SKIT\n3.5 kW flat panel wall mounted system\n$100\n\n\nMSZ-EF42VE2B/W/SKIT\n4.2 kW flat panel wall mounted system\n$100\n\n\nMSZ-EF50VE2B/W/SKIT\n5.0 kW flat panel wall mounted system\n$100\n\n\nMSZ-AP25VG(D*)KIT\n2.5 kW wall mounted split system\n$100\n\n\nMSZ-AP35VG(D*)KIT\n3.5 kW wall mounted split system\n$100\n\n\nMSZ-AP42VG(D*)KIT\n4.2 kW wall mounted split system\n$100\n\n\nMSZ-AP50VG(D*)KIT\n5.0 kW wall mounted split system\n$100\n\n\nMSZ-AP60VG(D*)KIT\n6.0 kW wall mounted split system\n$100\n\n\nMSZ-AP71VG(D*)KIT\n7.1 kW wall mounted split system\n$150\n\n\nMSZ-AP80VG(D*)KIT\n8.0 kW wall mounted split system\n$200\n\n\nMSZ-GL25VGDKIT\n2.5 kW wall mounted split system\n$100\n\n\nMSZ-GL35VGDKIT\n3.5 kW wall mounted split system\n$100\n\n\nMSZ-GL42VGDKIT\n4.2 kW wall mounted split system\n$100\n\n\nMSZ-GL50VGDKIT\n5.0 kW wall mounted split system\n$100\n\n\nMSZ-GL60VGDKIT\n6.0 kW wall mounted split system\n$100\n\n\nMSZ-GL71VGDKIT\n7.1 kW wall mounted split system\n$150\n\n\nMSZ-GL80VGDKIT\n8.0 kW wall mounted split system\n$200\n\n\nMFZ-KJ25KITVE\n2.5 kW floor console split system\n$100\n\n\nMFZ-KJ35KITVE\n3.5 kW floor console split system\n$100\n\n\nMFZ-KJ50KITVE\n5.0 kW floor console split system\n$100\n\n\nMFZ-KJ60KITVE\n6.0 kW floor console split system\n$100\n\n\nPEA-RP100 GAAVKIT/GAAYKIT\n10.0 kW cooling / 12.5 kW heating ducted system\n$200\n\n\nPEA-RP125 GAAVKIT/GAAYKIT\n12.5 kW cooling / 14.0 kW heating ducted system\n$200\n\n\nPEA-RP140 GAAVKIT/GAAYKIT\n13.5 kW cooling / 16.0 kW heating ducted system\n$400\n\n\n\nCall us today to find out more
URL:http://www.coolwind.com.au/special-offer/winter-gift-card-redemption/
LOCATION:murray place\, forrest lake\, Queensland\, 4078\, Australia
CATEGORIES:Special Offers
ATTACH;FMTTYPE=image/jpeg:http://www.coolwind.com.au/wp-content/uploads/2017/01/Gift-Card-2019-MSZ-GL-Carousel-banner-464x300.jpg
END:VEVENT
END:VCALENDAR